BEGIN:VCALENDAR
VERSION:2.0
PRODID:-//ChurchDev//Events//EN
CALSCALE:GREGORIAN
METHOD:PUBLISH
BEGIN:VEVENT
UID:3674-20260504@www.northsidebaptistds.org
SUMMARY:Spring Revival
DTSTART:20260504T233000Z
DTEND:20260505T003000Z
DESCRIPTION:https://www.northsidebaptistds.org/events/spring-revival-2/
LOCATION:200 Cockerham Rd. Denham Springs\, LA 70726
URL:https://www.northsidebaptistds.org/events/spring-revival-2/
DTSTAMP:20260419T221526Z
END:VEVENT
END:VCALENDAR
