BEGIN:VCALENDAR
VERSION:2.0
PRODID:-//ChurchDev//Events//EN
CALSCALE:GREGORIAN
METHOD:PUBLISH
BEGIN:VEVENT
UID:3673-20260503@www.northsidebaptistds.org
SUMMARY:Spring Revival
DTSTART:20260503T153000Z
DTEND:20260503T170000Z
DESCRIPTION:https://www.northsidebaptistds.org/events/spring-revival/
LOCATION:200 Cockerham Rd. Denham Springs\, LA 70726
URL:https://www.northsidebaptistds.org/events/spring-revival/
DTSTAMP:20260419T221428Z
END:VEVENT
END:VCALENDAR
