BEGIN:VCALENDAR
VERSION:2.0
PRODID:-//ChurchDev//Events//EN
CALSCALE:GREGORIAN
METHOD:PUBLISH
BEGIN:VEVENT
UID:3672-20260421@www.northsidebaptistds.org
SUMMARY:Merry @ Heart
DTSTART:20260421T153000Z
DTEND:20260421T163000Z
DESCRIPTION:https://www.northsidebaptistds.org/events/merry-heart-6/
LOCATION:200 Cockerham Rd. Denham Springs\, LA 70726
URL:https://www.northsidebaptistds.org/events/merry-heart-6/
DTSTAMP:20260419T203414Z
END:VEVENT
END:VCALENDAR
