BEGIN:VCALENDAR
VERSION:2.0
PRODID:-//ChurchDev//Events//EN
CALSCALE:GREGORIAN
METHOD:PUBLISH
BEGIN:VEVENT
UID:3671-20260405@www.northsidebaptistds.org
SUMMARY:Easter Music
DTSTART:20260405T153000Z
DTEND:20260405T170000Z
DESCRIPTION:https://www.northsidebaptistds.org/events/easter-music/
LOCATION:200 Cockerham Rd. Denham Springs\, LA 70726
URL:https://www.northsidebaptistds.org/events/easter-music/
DTSTAMP:20260419T203415Z
END:VEVENT
END:VCALENDAR
