BEGIN:VCALENDAR
VERSION:2.0
PRODID:-//ChurchDev//Events//EN
CALSCALE:GREGORIAN
METHOD:PUBLISH
BEGIN:VEVENT
UID:3670-20260405@www.northsidebaptistds.org
SUMMARY:Easter
DTSTART;VALUE=DATE:20260405
DTEND;VALUE=DATE:20260406
DESCRIPTION:https://www.northsidebaptistds.org/events/easter/
LOCATION:200 Cockerham Rd. Denham Springs\, LA 70726
URL:https://www.northsidebaptistds.org/events/easter/
DTSTAMP:20260419T203414Z
END:VEVENT
END:VCALENDAR
