BEGIN:VCALENDAR
VERSION:2.0
PRODID:-//ChurchDev//Events//EN
CALSCALE:GREGORIAN
METHOD:PUBLISH
BEGIN:VEVENT
UID:3494-20250910@www.northsidebaptistds.org
SUMMARY:Choir Rehearsal
DTSTART:20250910T220000Z
DTEND:20250910T230000Z
DESCRIPTION:https://www.northsidebaptistds.org/events/choir-rehearsal/
LOCATION:200 Cockerham Rd. Denham Springs\, LA 70726
URL:https://www.northsidebaptistds.org/events/choir-rehearsal/
DTSTAMP:20260419T203550Z
END:VEVENT
END:VCALENDAR
