BEGIN:VCALENDAR
VERSION:2.0
PRODID:-//ChurchDev//Events//EN
CALSCALE:GREGORIAN
METHOD:PUBLISH
BEGIN:VEVENT
UID:3493-20250907@www.northsidebaptistds.org
SUMMARY:Morning Worship
DTSTART:20250908T033000Z
DTEND:20250908T043000Z
DESCRIPTION:https://www.northsidebaptistds.org/events/morning-worship/
LOCATION:200 Cockerham Rd. Denham Springs\, LA 70726
URL:https://www.northsidebaptistds.org/events/morning-worship/
DTSTAMP:20260419T203551Z
END:VEVENT
END:VCALENDAR
