BEGIN:VCALENDAR
VERSION:2.0
PRODID:-//ChurchDev//Events//EN
CALSCALE:GREGORIAN
METHOD:PUBLISH
BEGIN:VEVENT
UID:3491-20250903@www.northsidebaptistds.org
SUMMARY:Kid’s Club/TLC
DTSTART:20250903T230000Z
DTEND:20250904T000000Z
DESCRIPTION:https://www.northsidebaptistds.org/events/kids-club-tlc/
LOCATION:200 Cockerham Rd. Denham Springs\, LA 70726
URL:https://www.northsidebaptistds.org/events/kids-club-tlc/
DTSTAMP:20260419T203549Z
END:VEVENT
END:VCALENDAR
