BEGIN:VCALENDAR
VERSION:2.0
PRODID:-//ChurchDev//Events//EN
CALSCALE:GREGORIAN
METHOD:PUBLISH
BEGIN:VEVENT
UID:3490-20250903@www.northsidebaptistds.org
SUMMARY:Bible Study/Prayer
DTSTART:20250903T230000Z
DTEND:20250904T000000Z
DESCRIPTION:https://www.northsidebaptistds.org/events/bible-study-prayer/
LOCATION:200 Cockerham Rd. Denham Springs\, LA 70726
URL:https://www.northsidebaptistds.org/events/bible-study-prayer/
DTSTAMP:20260419T203524Z
END:VEVENT
END:VCALENDAR
